BEGIN:VCALENDAR
VERSION:2.0
PRODID:-//DP Pro Event Calendar//3.2.6//EN
BEGIN:VEVENT
UID:aa49a2fc-ae4b-48f8-ac13-8008ee593b4f
DTSTART;TZID=UTC;VALUE=DATE:20271009
DTEND;TZID=UTC;VALUE=DATE:20271010
DTSTAMP:20210424T095849Z
SUMMARY:Pizza Saturday &#x1f355\;+&#x1f37a\;
DESCRIPTION:Every Saturday we offer you a complimentary beer &#x1f37a\;  on the tap (400 ml) for each pizza. Our pizza is made according to the original recipe\, tradition\, and ingredients of the famous pizza in Naples\, where both THE pizza AND our chef Claudio were born &#x1f601\;
LOCATION:
URL:
ATTACH;FMTTYPE=image/jpeg:https://fumovillage.com/wp-content/uploads/2021/03/Fumo-3.jpg
END:VEVENT
END:VCALENDAR